BEGIN:VCALENDAR
VERSION:2.0
PRODID:spatie/icalendar-generator
DESCRIPTION:Evenementen van MFC de Eiken
X-WR-CALDESC:Evenementen van MFC de Eiken
REFRESH-INTERVAL;VALUE=DURATION:PT1440M
X-PUBLISHED-TTL:PT1440M
BEGIN:VTIMEZONE
TZID:Etc/GMT+0
BEGIN:STANDARD
DTSTART:20250715T143000Z
TZOFFSETFROM:+0000
TZOFFSETTO:+0000
END:STANDARD
END:VTIMEZONE
BEGIN:VTIMEZONE
TZID:UTC
BEGIN:STANDARD
DTSTART:20250726T045841Z
TZOFFSETFROM:+0000
TZOFFSETTO:+0000
END:STANDARD
END:VTIMEZONE
BEGIN:VEVENT
UID:1671-528
DTSTAMP:20260422T045841Z
SUMMARY:vv Tiendeveen 1 - Geel Zwart '25 1
LOCATION:MFC de Eiken Molenweg 4a  Tiendeveen  7936PB
ORGANIZER;CN=Ria:MAILTO:riavangoor@home.nl
DTSTART;TZID=Etc/GMT+0:20260411T143000
DTEND;TZID=Etc/GMT+0:20260411T163000
X-ALT-DESC;FMTTYPE=TEXT/HTML:
CATEGORIES:Kantine
URL;VALUE=URI:https://mfcdeeiken.nl/mc-events/vv-tiendeveen-1-geel-zwart-25
 -1/?mc_id=1671
END:VEVENT
END:VCALENDAR